BEGIN:VCALENDAR
VERSION:2.0
PRODID:-//TBUG - ECPv4.6.11.1//NONSGML v1.0//EN
CALSCALE:GREGORIAN
METHOD:PUBLISH
X-WR-CALNAME:TBUG
X-ORIGINAL-URL:https://tamarbug.org.au
X-WR-CALDESC:Events for TBUG
BEGIN:VEVENT
DTSTART;TZID=UTC+10:20180131T091500
DTEND;TZID=UTC+10:20180131T123000
DTSTAMP:20180226T231017
CREATED:20171229T190412Z
LAST-MODIFIED:20180124T094232Z
UID:858-1517390100-1517401800@tamarbug.org.au
SUMMARY:Carrick through Quamby\, Carrick Community Centre.  3C  40 Km
DESCRIPTION:Brisk ride on country roads around the Carrick area.  \n
URL:https://tamarbug.org.au/event/carrick-quamby-carrick-community-centre-3c-40-km/
LOCATION:29 Meander Valley Rd\, Carrick\, Tasmania\, 7291\, Australia
CATEGORIES:Rides
ORGANIZER;CN="Mick":MAILTO:hlmstatham@gmail.com
END:VEVENT
BEGIN:VEVENT
DTSTART;TZID=UTC+10:20180201T173000
DTEND;TZID=UTC+10:20180201T193000
DTSTAMP:20180226T231017
CREATED:20171227T111450Z
LAST-MODIFIED:20180124T094153Z
UID:820-1517506200-1517513400@tamarbug.org.au
SUMMARY:Trails around Launceston\, Park St\, Royal Park   2B\, 20Km
DESCRIPTION:Trails and roads of Launceston. Good for beginners or those wanting to improve their skills in a supportive atmosphere. Hybrid bikes ideal\, but others generally suitable. 60-75 minutes\, often sharing with vehicles for at least a small part of the way.  \n
URL:https://tamarbug.org.au/event/trails-around-launceston-park-st-royal-park-2b-20km-2/
LOCATION:Park St\, Launceston\, Tasmania\, 7250\, Australia
CATEGORIES:Rides
ORGANIZER;CN="Marion":MAILTO:marionsargent@bigpond.com
END:VEVENT
BEGIN:VEVENT
DTSTART;VALUE=DATE:20180202
DTEND;VALUE=DATE:20180205
DTSTAMP:20180226T231017
CREATED:20180103T134132Z
LAST-MODIFIED:20180124T094032Z
UID:860-1517529600-1517788799@tamarbug.org.au
SUMMARY:Ride and Park your Bike with TBUG at Festivale 2- 4 February 2018
DESCRIPTION:Tbug will again be providing a bike parking service at this year’s Festivale. We will be there from Friday night February 2 right through until Sunday afternoon February 4. Also this year Festivale is offering a voucher to enable you to get free drink container such as a wine glass or another container. This will save you about $8!!….you can collect you voucher when you drop your bike at the Tbug stand just inside the main Tamar St entrance. \n
URL:https://tamarbug.org.au/event/ride-park-bike-tbug-festivale-2-4-february-2018/
LOCATION:Tamar St\, Launceston\, Tas\, 7250\, Australia
CATEGORIES:Rides
END:VEVENT
BEGIN:VEVENT
DTSTART;TZID=UTC+10:20180204T094500
DTEND;TZID=UTC+10:20180204T140000
DTSTAMP:20180226T231017
CREATED:20171126T102924Z
LAST-MODIFIED:20180124T093953Z
UID:689-1517737500-1517752800@tamarbug.org.au
SUMMARY:Latrobe Devonport Circuit
DESCRIPTION:TBA \n
URL:https://tamarbug.org.au/event/latrobe-devonport-circuit/
LOCATION:1 Bells Parade\, Latrobe\, Tasmania\, 7307\, Australia
CATEGORIES:Rides
ORGANIZER;CN="Marion":MAILTO:marionsargent@bigpond.com
END:VEVENT
BEGIN:VEVENT
DTSTART;TZID=UTC+10:20180207T090000
DTEND;TZID=UTC+10:20180207T123000
DTSTAMP:20180226T231017
CREATED:20171217T104744Z
LAST-MODIFIED:20180124T093717Z
UID:783-1517994000-1518006600@tamarbug.org.au
SUMMARY:Evandale to Deddington and Return\, Barclay St\, Evandale 3C 44K
DESCRIPTION:Comfortable out and back ride at a steady pace through rolling countryside \n
URL:https://tamarbug.org.au/event/evandale-to-deddington/
LOCATION:Evandale\, Tas\, Australia
CATEGORIES:Rides
ORGANIZER;CN="Mick":MAILTO:hlmstatham@gmail.com
END:VEVENT
BEGIN:VEVENT
DTSTART;TZID=UTC+10:20180208T173000
DTEND;TZID=UTC+10:20180208T193000
DTSTAMP:20180226T231017
CREATED:20171227T112550Z
LAST-MODIFIED:20180124T093700Z
UID:827-1518111000-1518118200@tamarbug.org.au
SUMMARY:Trails around Launceston\, Park St\, Royal Park. 2B\, 12 - 20Km
DESCRIPTION:Trails and roads of Launceston. This is a good ride for beginners or those wanting to consolidate their skills and confidence in a supportive atmosphere. Hybrid bikes ideal.  Refugee riders may join us for this ride.  \n
URL:https://tamarbug.org.au/event/trails-around-launceston-park-st-royal-park-2b-12-20km/
LOCATION:Park St\, Launceston\, Tasmania\, 7250\, Australia
CATEGORIES:Rides
ORGANIZER;CN="Marion":MAILTO:marionsargent@bigpond.com
END:VEVENT
BEGIN:VEVENT
DTSTART;TZID=UTC+10:20180214T091500
DTEND;TZID=UTC+10:20180214T120000
DTSTAMP:20180226T231017
CREATED:20171227T113046Z
LAST-MODIFIED:20180124T093547Z
UID:829-1518599700-1518609600@tamarbug.org.au
SUMMARY:Hazelbrae through Cluan\, Hagley Station Lane.  3C 44 Km
DESCRIPTION:Brisk ride on country roads  \n
URL:https://tamarbug.org.au/event/hazelbrae-cluan-hagley-station-lane-3c-44-km/
LOCATION:Hazelbrae\, Hagley\, Tas\, 7292\, Australia
CATEGORIES:Rides
ORGANIZER;CN="Mick":MAILTO:hlmstatham@gmail.com
END:VEVENT
BEGIN:VEVENT
DTSTART;TZID=UTC+10:20180215T174500
DTEND;TZID=UTC+10:20180215T193000
DTSTAMP:20180226T231017
CREATED:20171227T113510Z
LAST-MODIFIED:20180124T093510Z
UID:832-1518716700-1518723000@tamarbug.org.au
SUMMARY:Trails around Launceston\, Park St\, Royal Park. 2B\, 12 -20Km
DESCRIPTION:Trails and roads of Launceston. This is a good ride for beginners or those wanting to consolidate their skills and confidence in a supportive atmosphere. Hybrid bikes ideal.  Refugee riders may join us for this ride.  \n
URL:https://tamarbug.org.au/event/trails-around-launceston-park-st-royal-park-2b-12-20km-2/
LOCATION:Park St\, Launceston\, Tasmania\, 7250\, Australia
CATEGORIES:Rides
ORGANIZER;CN="Marion":MAILTO:marionsargent@bigpond.com
END:VEVENT
BEGIN:VEVENT
DTSTART;VALUE=DATE:20180217
DTEND;VALUE=DATE:20180219
DTSTAMP:20180226T231017
CREATED:20171227T114102Z
LAST-MODIFIED:20180124T093452Z
UID:834-1518825600-1518998399@tamarbug.org.au
SUMMARY:Overnight ride to Mole Creek\, Brickfields\, Margaret St. Launceston  Sat = 100 Km 4B Sun = 81 Km 4B
DESCRIPTION:Ride from Launceston via Deloraine. Stay at the Mole Creek pub or camp. Lunch at Deloraine. Contact Helen if you are interested  \n
URL:https://tamarbug.org.au/event/overnight-ride-mole-creek-brickfields-margaret-st-launceston-sat-100-km-4b-sun-81-km-4b/
LOCATION:Margaret St\, Launceston\, Tasmania\, 7250\, Australia
CATEGORIES:Rides
ORGANIZER;CN="Helen":MAILTO:hlmstatham@gmail.com
END:VEVENT
BEGIN:VEVENT
DTSTART;TZID=UTC+10:20180221T091500
DTEND;TZID=UTC+10:20180221T120000
DTSTAMP:20180226T231017
CREATED:20171227T114610Z
LAST-MODIFIED:20180124T093427Z
UID:839-1519204500-1519214400@tamarbug.org.au
SUMMARY:Longford through Cressy and Woolmers\, Lyttleton St\, Longford.  3C 44 Km
DESCRIPTION:Brisk ride on country roads. Rolling hills and great views. \n
URL:https://tamarbug.org.au/event/longford-cressy-woolmers-lyttleton-st-longford-3c-44-km/
LOCATION:16 Lyttleton St\, Longford\, Tas\, 7301\, Australia
CATEGORIES:Rides
ORGANIZER;CN="Mick":MAILTO:hlmstatham@gmail.com
END:VEVENT
BEGIN:VEVENT
DTSTART;TZID=UTC+10:20180222T174500
DTEND;TZID=UTC+10:20180222T193000
DTSTAMP:20180226T231017
CREATED:20171227T115318Z
LAST-MODIFIED:20180124T093402Z
UID:846-1519321500-1519327800@tamarbug.org.au
SUMMARY:Trails around Launceston\, Park St\, Royal Park. 2B\, 12Km
DESCRIPTION:Trails and roads of Launceston. This is a good ride for beginners or those wanting to consolidate their skills and confidence in a supportive atmosphere. Hybrid bikes ideal.  Refugee riders may join us for this ride. \n
URL:https://tamarbug.org.au/event/trails-around-launceston-park-st-royal-park-2b-12km/
LOCATION:Park St\, Launceston\, Tasmania\, 7250\, Australia
CATEGORIES:Rides
ORGANIZER;CN="Marion":MAILTO:marionsargent@bigpond.com
END:VEVENT
BEGIN:VEVENT
DTSTART;TZID=UTC+10:20180228T091500
DTEND;TZID=UTC+10:20180228T120000
DTSTAMP:20180226T231017
CREATED:20180219T220231Z
LAST-MODIFIED:20180220T050608Z
UID:1029-1519809300-1519819200@tamarbug.org.au
SUMMARY:Carrick through Bishopsbourne and Whitemore\, Carrick Hall  3C  40 Km
DESCRIPTION:A Brisk Ride through Country roads!!! \n
URL:https://tamarbug.org.au/event/carrick-bishopsbourne-whitemore-3c-40-km-2/
LOCATION:29 Meander Valley Rd\, Carrick\, Tasmania\, 7291\, Australia
CATEGORIES:Rides
ORGANIZER;CN="Mick":MAILTO:hlmstatham@gmail.com
END:VEVENT
BEGIN:VEVENT
DTSTART;TZID=UTC+10:20180301T174500
DTEND;TZID=UTC+10:20180301T200000
DTSTAMP:20180226T231017
CREATED:20180113T000826Z
LAST-MODIFIED:20180129T090311Z
UID:899-1519926300-1519934400@tamarbug.org.au
SUMMARY:Trails around Launceston\, Royal Park 2B\, 12Km
DESCRIPTION:Comfortable rides around the trails and roads of Launceston. Hybrid bikes ideal\, but others generally suitable. 60-75 minutes\, some road sharing but these rides are suitable for those wanting to improve confidence and skills. \n
URL:https://tamarbug.org.au/event/trails-around-launceston-2b-12km-6/
LOCATION:Park St\, Launceston\, Tasmania\, 7250\, Australia
CATEGORIES:Rides
ORGANIZER;CN="Marion":MAILTO:marionsargent@bigpond.com
END:VEVENT
END:VCALENDAR